BEGIN:VCALENDAR
VERSION:2.0
PRODID:-//TYPO3/NONSGML News system (news)//EN
BEGIN:VEVENT
UID:news-88342@psychologie.uni-graz.at
DTSTAMP:20241223T102010Z
DTSTART:20220630T094500Z
DTEND:20220630T150000Z
SUMMARY:2nd Open Science Day

DESCRIPTION:Getting started with open science practices for post-docs, PhD-, and Master students!
END:VEVENT
END:VCALENDAR
