BEGIN:VCALENDAR
VERSION:2.0
PRODID:-//TYPO3/NONSGML News system (news)//EN
BEGIN:VEVENT
UID:news-135913@psychologie.uni-graz.at
DTSTAMP:20260419T101756Z
DTSTART:20260612T080000Z
DTEND:20260612T144500Z
SUMMARY:Open Science Day 2026

DESCRIPTION:Vorträge und Workshops rund um Open Science
END:VEVENT
END:VCALENDAR
